BEGIN:VCALENDAR
VERSION:2.0
PRODID:-//wp-events-plugin.com//7.2.3.1//EN
TZID:Europe/Berlin
X-WR-TIMEZONE:Europe/Berlin
BEGIN:VEVENT
UID:450@lsj-akademie.de
DTSTART;TZID=Europe/Berlin:20260507T150000
DTEND;TZID=Europe/Berlin:20260507T163000
DTSTAMP:20251204T132515Z
URL:https://lsj-akademie.de/veranstaltungen/online-impuls-elternarbeit-mit
 -bwp-2/
SUMMARY:Online-Impuls Elternarbeit mit BWP
DESCRIPTION:Eltern spielen eine entscheidende Rolle bei der Berufswahl ihre
 s Kindes. Wie Studien belegen\, sind sie die wichtigsten Bezugspersonen un
 d Ratgeber für die Berufliche Orientierung der Jugendlichen. Damit Eltern
  die Entscheidungsfindung gut informiert unterstützen können\, bedarf es
  einer engen Zusammenarbeit von Schule und Elternhaus. Der Berufswahlpass 
 (BWP) bietet vielfältige Ansatzpunkte\, um Eltern zu informieren und akti
 v in die Berufliche Orientierung einzubeziehen. Diese Möglichkeiten werde
 n im Online-Impuls vorgestellt und Erfahrungen ausgetauscht.\nInhalte:\n\n
  	Rolle der Eltern im BO-Prozess\n 	Eltern informieren: Möglichkeiten und
  Formate der Kommunikation\n 	Eltern aktivieren: Wege\, um Eltern aktiv ei
 nzubeziehen und zu beteiligen\n 	Eltern unterstützen: Anregungen zur geli
 ngenden Begleitung des Berufswahlprozesses ihres Kindes\n\nZielgruppen:\n\
 n 	BO-verantwortliche Lehrkräfte\n 	Schulleitungen\n 	in der BO tätige p
 ädagogische Fachkräfte\n
CATEGORIES:Berufliche Orientierung,BO – Pädagogen,X.Ansprechpartnerin:
 INA,Z.OPTION Förderung SMK,Z.OPTION Hinweis: kostenfreie
 Veranstaltung,Z.OPTION Online-Seminar
LOCATION:https://app.bbbserver.de/join/a452b322-3c21-43c3-9a44-68529e170dd0
END:VEVENT
BEGIN:VTIMEZONE
TZID:Europe/Berlin
X-LIC-LOCATION:Europe/Berlin
BEGIN:DAYLIGHT
DTSTART:20260329T030000
TZOFFSETFROM:+0100
TZOFFSETTO:+0200
TZNAME:CEST
END:DAYLIGHT
END:VTIMEZONE
END:VCALENDAR