BEGIN:VCALENDAR
VERSION:2.0
PRODID:-//wp-events-plugin.com//7.2.3.1//EN
TZID:Europe/Berlin
X-WR-TIMEZONE:Europe/Berlin
BEGIN:VEVENT
UID:479@lsj-akademie.de
DTSTART;TZID=Europe/Berlin:20260506T130000
DTEND;TZID=Europe/Berlin:20260506T143000
DTSTAMP:20260122T100133Z
URL:https://lsj-akademie.de/veranstaltungen/fuer-unternehmen-das-berufswah
 lpass-sponsoring-fuer-schulkooperationen-nutzen-4/
SUMMARY:Für Unternehmen: Das Berufswahlpass-Sponsoring für Schulkooperati
 onen nutzen
DESCRIPTION:Der Berufswahlpass (BWP) ist ein Portfolio\, das Schülerinnen 
 und Schüler über mehrere Schuljahre für ihre Berufsorientierung (BO) an
 wenden. Für die Finanzierung des Berufswahlpasses nutzen die Schulen unte
 rschiedliche Möglichkeiten. Eine Möglichkeit ist das Sponsoring. Für Un
 ternehmen ist es wegen seines hohen Potenzials für die frühzeitige Nachw
 uchskräftegewinnung interessant.  Im Kurzseminar zeigen wir Ihnen Mögli
 chkeiten und Praxis­beispiele\, wie Unternehmen das BWP-Sponsoring für d
 ie Nachwuchs­kräfte­werbung nutzen und mit Schulen verbindlich kooperie
 ren können. Gestalten Sie diese Win-win-Situation für Unternehmen und Sc
 hule aktiv mit!\nZielgruppe:\n\n 	Führungskräfte\n 	Personalverantwortli
 che\n 	Ausbildungsleiter/-innen\n 	Praktikumsbetreuer/-innen\n\nInhalte:\n
 \n 	Kurzvorstellung Berufswahlpass (BWP)\n 	Möglichkeiten für BO-Angebot
 e von Unternehmen für Schulen mit BWP\n 	Organisation des BWP-Sponsorings
 \n 	Praxisbeispiele und Begleitmaterialien\n\nDozentin:\nDipl.-Päd. Dr. A
 ntje Finke (Referentinnenprofil)
CATEGORIES:Berufliche Orientierung,BO – Unternehmen,X.Ansprechpartnerin:
 ANTJE,Z.OPTION Förderung SMK,Z.OPTION Hinweis: kostenfreie
 Veranstaltung,Z.OPTION Online-Seminar
LOCATION:https://app.bbbserver.de/join/9075ca02-f180-4bcd-bf3d-5775dd768bda
END:VEVENT
BEGIN:VTIMEZONE
TZID:Europe/Berlin
X-LIC-LOCATION:Europe/Berlin
BEGIN:DAYLIGHT
DTSTART:20260329T030000
TZOFFSETFROM:+0100
TZOFFSETTO:+0200
TZNAME:CEST
END:DAYLIGHT
END:VTIMEZONE
END:VCALENDAR